BEGIN:VCALENDAR
VERSION:2.0
PRODID:-//Mancha Centro Innova - ECPv5.3.1.1//NONSGML v1.0//EN
CALSCALE:GREGORIAN
METHOD:PUBLISH
X-WR-CALNAME:Mancha Centro Innova
X-ORIGINAL-URL:https://manchacentroinnova.org
X-WR-CALDESC:Eventos para Mancha Centro Innova
BEGIN:VTIMEZONE
TZID:UTC
BEGIN:STANDARD
TZOFFSETFROM:+0000
TZOFFSETTO:+0000
TZNAME:UTC
DTSTART:20170101T000000
END:STANDARD
END:VTIMEZONE
BEGIN:VEVENT
DTSTART;TZID=UTC:20170406T200000
DTEND;TZID=UTC:20170406T220000
DTSTAMP:20260420T144630
CREATED:20170316T172313Z
LAST-MODIFIED:20170316T173939Z
UID:2393-1491508800-1491516000@manchacentroinnova.org
SUMMARY:Nuevo meetup WordPress Alcazar de San Juan previsto
DESCRIPTION:Hola estamos co-planificando para este día otro nuevo meetup\, junto a personas participantes del anterior meetup WordPress Alcázar de san Juan\, donde lo pasamos genial y cumplimos con creces los objetivos planteados para dicho encuentro del pasado viernes 10 de marzo 2017. \nConforme vayamos confirmando cosas las iremos poniendo\, de momento recordad que todo lo relacionado con esta linea de encuentros va por: https://www.meetup.com/es-ES/Alcazar-de-San-Juan-WordPress-Meetup/ \n 
URL:https://manchacentroinnova.org/evento/nuevo-meetup-wordpress-alcazar-san-juan-previsto/
LOCATION:Alcázar de San Juan
END:VEVENT
END:VCALENDAR